BEGIN:VCALENDAR
VERSION:2.0
PRODID:-//jEvents 2.0 for Joomla//EN
CALSCALE:GREGORIAN
METHOD:PUBLISH
BEGIN:VEVENT
UID:12e98bb960b235687460d24220c54d80
CATEGORIES:Escalade
CREATED:20260126T220436
SUMMARY:Week End Multi-Activitées 3 jours : Gorge de la Jonte et Causse-Méjean : Escalade et randonnée pédestre et VTT
LOCATION:Jonte et Méjean
URL;VALUE=URI:https://www.muretmontagne.fr/index.php/programme/detailevenement/16727/-/we
 ek-end-multi-activitees-3-jours-gorge-de-la-jonte-et-causse-mejean-escalade
 -et-randonnee-pedestre-et-vtt?tmpl=component
DESCRIPTION:Durée : 3 jours (ou 2 jours selon les disponibilités).\nDépart le vendredi 
 matin 01 mai à 8h00 club de Muret Montagne\nDistance te temps &gt; 3h12min 
 (260 km) via N88Arrivée au parking de l'escalade vers les 12h00\nMise en pl
 ace du bivouac sauvage sur le causse Méjean (pas très loin des voitures) le
  soir sur "la colline au renard".\nRéunion préparatoire : Mardi 28 avril 20
 26 à 20h00.Réunion Microsoft TeamsRejoindre : https://teams.microsoft.com/m
 eet/335690553703018?p=ZrIcmwod41L78SEcvK Numéro de réunion : 335 690 553 70
 3 018 Code secret : hi7Yh76P\nA prévoir: \n\n - Repas du soir au restaurent
 , Pique-nique le midi et petit déjeuner au pied de la tente.\n - Matériel: 
 Tente, Tapis de sol, Duvet confort 0°, réchaud à partager à plusieurs, orei
 ller, frontale, doudou, gourde. Au programme: \n\n - Escalade (tous niveaux
 )\n - Randonnées pédestre, VTT\n - Exploration nocturne et culinaireRetour 
 Muret Montagne au alentour de 19h00 le Dimanche\nTéléphones: \nDominique &g
 t; 06.08.36.12.67\nThierry &gt; 06.61.55.04.38 Cet évènement a été importé 
 depuis :https://www.muretmontagne.fr/index.php/programme/detailevenement/16
 727/-/week-end-multi-activitees-3-jours-gorge-de-la-jonte-et-causse-mejean-
 escalade-et-randonnee-pedestre-et-vtt?tmpl=component
X-ALT-DESC;FMTTYPE=text/html:<div class="jev_evdt_desc"><p><strong>Durée :</strong> 3 jours (ou 2 jours 
 selon les disponibilités).</p><p>Départ le vendredi matin 01 mai à 8h00 clu
 b de Muret Montagne</p><div class="zqnMR"><div class="RES9jf IFnjPb"><time 
 datetime="PT3H12M26S">Distance te temps &gt; 3h12min</time> (260 km) via N8
 8</div></div><p>Arrivée au parking de l'escalade vers les 12h00</p><p>Mise 
 en place du bivouac sauvage sur le causse Méjean (pas très loin des voiture
 s) le soir sur "la colline au renard".</p><table style="border-collapse: co
 llapse; width: 100%; height: 24px;" border="1"><colgroup><col style="width:
  99.9167%;"></colgroup><tbody><tr style="height: 24px;"><td style="height: 
 24px;"><div style="margin-bottom: 12px; font-family: 'Segoe UI', 'Helvetica
  Neue', Helvetica, Arial, sans-serif; color: rgb(36, 36, 36);"><span style=
 "font-size: 20px; font-weight: 600;"><strong>Réunion préparatoire :</strong
 > Mardi 28 avril 2026 à 20h00.</span></div><div style="margin-bottom: 12px;
  font-family: 'Segoe UI', 'Helvetica Neue', Helvetica, Arial, sans-serif; c
 olor: rgb(36, 36, 36);"><span style="font-size: 20px; font-weight: 600;">Ré
 union Microsoft Teams</span></div><div style="margin-bottom: 6px; font-fami
 ly: 'Segoe UI', 'Helvetica Neue', Helvetica, Arial, sans-serif;"><span styl
 e="font-size: 20px; color: rgb(36, 36, 36); font-weight: 600;">Rejoindre : 
 </span><span style="font-size: 20px; color: rgb(91, 95, 199);"><a id="x_mee
 t_invite_block.action.join_link" class="x_me-email-link OWAAutoLink" style=
 "color: rgb(91, 95, 199);" title="Meeting join" href="https://teams.microso
 ft.com/meet/335690553703018?p=ZrIcmwod41L78SEcvK" target="_blank" rel="noop
 ener noreferrer" data-auth="NotApplicable"><u>https://teams.microsoft.com/m
 eet/335690553703018?p=ZrIcmwod41L78SEcvK</u></a></span><span style="color: 
 rgb(36, 36, 36);"> </span></div><div style="margin-bottom: 6px; font-family
 : 'Segoe UI', 'Helvetica Neue', Helvetica, Arial, sans-serif;"><span style=
 "font-size: 14px; color: rgb(97, 97, 97);">Numéro de réunion : </span><span
  style="font-size: 14px; color: rgb(36, 36, 36);">335 690 553 703 018</span
 ><span style="color: rgb(36, 36, 36);"> </span></div><div style="margin-bot
 tom: 32px; font-family: 'Segoe UI', 'Helvetica Neue', Helvetica, Arial, san
 s-serif;"><span style="font-size: 14px; color: rgb(97, 97, 97);">Code secre
 t : </span><span style="font-size: 14px; color: rgb(36, 36, 36);">hi7Yh76P<
 /span></div></td></tr></tbody></table><br /><p><strong>A prévoir: </strong>
 </p><ul><li>Repas du soir au restaurent, Pique-nique le midi et petit déjeu
 ner au pied de la tente.</li><li>Matériel: Tente, Tapis de sol, Duvet confo
 rt 0°, réchaud à partager à plusieurs, oreiller, frontale, doudou, gourde. 
 </li></ul><p><strong>Au programme: </strong></p><ul><li>Escalade (tous nive
 aux)</li><li>Randonnées pédestre, VTT</li><li>Exploration nocturne et culin
 aire</li></ul><p>Retour Muret Montagne au alentour de 19h00 le Dimanche</p>
 </div><div class="jev_evdt_extrainf">Téléphones: <br />Dominique &gt; 06.08
 .36.12.67<br />Thierry &gt; 06.61.55.04.38</div> <a href="https://www.muret
 montagne.fr/index.php/programme/detailevenement/16727/-/week-end-multi-acti
 vitees-3-jours-gorge-de-la-jonte-et-causse-mejean-escalade-et-randonnee-ped
 estre-et-vtt?tmpl=component">Cet évènement a été importé depuis :https://ww
 w.muretmontagne.fr/index.php/programme/detailevenement/16727/-/week-end-mul
 ti-activitees-3-jours-gorge-de-la-jonte-et-causse-mejean-escalade-et-randon
 nee-pedestre-et-vtt?tmpl=component</a>CONTACT:Thierry 06.61.55.04.38 et Dominique 06.08.36.12.67
DTSTAMP:20260425T141714
DTSTART:20260501T060000
DTEND:20260503T150000
SEQUENCE:0
TRANSP:OPAQUE
END:VEVENT
END:VCALENDAR